BEGIN:VCALENDAR
VERSION:2.0
PRODID:-//S-klasse Club Nederland - ECPv5.16.4//NONSGML v1.0//EN
CALSCALE:GREGORIAN
METHOD:PUBLISH
X-WR-CALNAME:S-klasse Club Nederland
X-ORIGINAL-URL:https://www.sklasseclub.nl
X-WR-CALDESC:Evenementen voor S-klasse Club Nederland
BEGIN:VTIMEZONE
TZID:Europe/Paris
BEGIN:DAYLIGHT
TZOFFSETFROM:+0100
TZOFFSETTO:+0200
TZNAME:CEST
DTSTART:20260329T010000
END:DAYLIGHT
BEGIN:STANDARD
TZOFFSETFROM:+0200
TZOFFSETTO:+0100
TZNAME:CET
DTSTART:20261025T010000
END:STANDARD
END:VTIMEZONE
BEGIN:VEVENT
DTSTART;TZID=Europe/Paris:20260307T100000
DTEND;TZID=Europe/Paris:20260307T140000
DTSTAMP:20260420T192330
CREATED:20260304T090735Z
LAST-MODIFIED:20260304T090735Z
UID:4139-1772877600-1772892000@www.sklasseclub.nl
SUMMARY:Taxatiedag 1 Barendrecht
DESCRIPTION:De eerste taxatie dag dit jaar is op 7 maart van 10:00 tot 14.00 uur bij de Peter Gevaerd in Barendrecht\, Voor een taxatie afspraak en info dient u contact op te nemen met Arjan Keesmaat via taxaties@sklasseclub.nl  Taxaties op andere clubdagen is niet meer mogelijk.
URL:https://www.sklasseclub.nl/evenement/taxatiedag-1-barendrecht/
END:VEVENT
END:VCALENDAR