BEGIN:VCALENDAR
VERSION:2.0
PRODID:-//S-klasse Club Nederland - ECPv5.16.4//NONSGML v1.0//EN
CALSCALE:GREGORIAN
METHOD:PUBLISH
X-WR-CALNAME:S-klasse Club Nederland
X-ORIGINAL-URL:https://www.sklasseclub.nl
X-WR-CALDESC:Evenementen voor S-klasse Club Nederland
BEGIN:VTIMEZONE
TZID:Europe/Paris
BEGIN:DAYLIGHT
TZOFFSETFROM:+0100
TZOFFSETTO:+0200
TZNAME:CEST
DTSTART:20260329T010000
END:DAYLIGHT
BEGIN:STANDARD
TZOFFSETFROM:+0200
TZOFFSETTO:+0100
TZNAME:CET
DTSTART:20261025T010000
END:STANDARD
END:VTIMEZONE
BEGIN:VEVENT
DTSTART;TZID=Europe/Paris:20260516T100000
DTEND;TZID=Europe/Paris:20260516T160000
DTSTAMP:20260420T125229
CREATED:20260304T100141Z
LAST-MODIFIED:20260304T100308Z
UID:4151-1778925600-1778947200@www.sklasseclub.nl
SUMMARY:Technische dag met Marco Kraan ( El Griffo )
DESCRIPTION:Op zaterdag 16 mei is er weer een technische dag bij Arjan Keesmaat in Breda\, adres:\n( Van Loenhout Products BV Charles Petitweg 10) waar Mercedes-Benz specialist Marco Kraan (ook bekend als El Griffo ) wederom een technische dag voor onze club verzorgd. \nDit beloofd weer een interessante en uiteraard gezellige dag te worden. Vanaf 10:00 uur is iedereen welkom in Breda\, de koffie met iets lekkers staat klaar en de S Klasse Club zal tussen de middag een lunch aanbieden voor alle leden.   Inschrijven is wel nodig i.v.m. catering en kan t/m 13  mei 12:00 mei via evenementen@sklasseclub.nl. Er zijn geen kosten verbonden aan deelname.
URL:https://www.sklasseclub.nl/evenement/technische-dag-met-marco-kraan-el-griffo/
END:VEVENT
END:VCALENDAR